BEGIN:VCALENDAR
VERSION:2.0
PRODID:-//The World Cafe - ECPv6.15.20//NONSGML v1.0//EN
CALSCALE:GREGORIAN
METHOD:PUBLISH
X-WR-CALNAME:The World Cafe
X-ORIGINAL-URL:https://theworldcafe.com
X-WR-CALDESC:Events for The World Cafe
REFRESH-INTERVAL;VALUE=DURATION:PT1H
X-Robots-Tag:noindex
X-PUBLISHED-TTL:PT1H
BEGIN:VTIMEZONE
TZID:Asia/Tokyo
BEGIN:STANDARD
TZOFFSETFROM:+0900
TZOFFSETTO:+0900
TZNAME:JST
DTSTART:20250101T000000
END:STANDARD
END:VTIMEZONE
BEGIN:VEVENT
DTSTART;TZID=Asia/Tokyo:20260224T200000
DTEND;TZID=Asia/Tokyo:20260224T223000
DTSTAMP:20260425T132343
CREATED:20260210T012121Z
LAST-MODIFIED:20260210T012121Z
UID:24176-1771963200-1771972200@theworldcafe.com
SUMMARY:February Community Cafe - Asia Pacific Time Zones
DESCRIPTION:Wednesday\, February 24\, 2026\n6 – 8:30 pm Jakarta | 7 – 9:30 pm in Beijing | 8pm – 10:30 pm in Tokyo\nIn a world full of quick fixes and personal wellness trends\, what if well-being is less about individual improvement and more about how we live together? This Community Café invites us to explore well-being as a shared practice — shaped through relationships\, purpose\, care\, and even moments of friction. Through our conversations\, we’ll reflect on what truly nourishes us and what it means to cultivate a life of meaning\, connection\, and collective flourishing. \nJoin us for this month’s Community World Cafe in an Asia Pacific time zone. Our topic for this month is “Gifts from the World Cafe: Imagining Community Together“. \nREGISTER HERE\n(free to Community Table subscribers – see the discount code in the Community Table calendar) \nThis online Community Cafe is part of an ongoing series we host every month for the World Cafe community and for the larger Central Garden of participatory practices. These Community Cafes give us as a global community a time to “lean in”; a time to listen to others and to speak our truth; a time to remember we are all in this together.
URL:https://theworldcafe.com/event/february-community-cafe-asia-pacific-time-zones/
LOCATION:ONLINE
CATEGORIES:Asia Pacific Community World Cafe
ATTACH;FMTTYPE=image/jpeg:https://theworldcafe.com/wp-content/uploads/2026/02/Asia-Feb-CC-Image.jpeg
END:VEVENT
END:VCALENDAR