BEGIN:VCALENDAR
VERSION:2.0
PRODID:-//The World Cafe - ECPv6.15.20//NONSGML v1.0//EN
CALSCALE:GREGORIAN
METHOD:PUBLISH
X-WR-CALNAME:The World Cafe
X-ORIGINAL-URL:https://theworldcafe.com
X-WR-CALDESC:Events for The World Cafe
REFRESH-INTERVAL;VALUE=DURATION:PT1H
X-Robots-Tag:noindex
X-PUBLISHED-TTL:PT1H
BEGIN:VTIMEZONE
TZID:America/Los_Angeles
BEGIN:DAYLIGHT
TZOFFSETFROM:-0800
TZOFFSETTO:-0700
TZNAME:PDT
DTSTART:20250309T100000
END:DAYLIGHT
BEGIN:STANDARD
TZOFFSETFROM:-0700
TZOFFSETTO:-0800
TZNAME:PST
DTSTART:20251102T090000
END:STANDARD
BEGIN:DAYLIGHT
TZOFFSETFROM:-0800
TZOFFSETTO:-0700
TZNAME:PDT
DTSTART:20260308T100000
END:DAYLIGHT
BEGIN:STANDARD
TZOFFSETFROM:-0700
TZOFFSETTO:-0800
TZNAME:PST
DTSTART:20261101T090000
END:STANDARD
BEGIN:DAYLIGHT
TZOFFSETFROM:-0800
TZOFFSETTO:-0700
TZNAME:PDT
DTSTART:20270314T100000
END:DAYLIGHT
BEGIN:STANDARD
TZOFFSETFROM:-0700
TZOFFSETTO:-0800
TZNAME:PST
DTSTART:20271107T090000
END:STANDARD
END:VTIMEZONE
BEGIN:VTIMEZONE
TZID:Asia/Tokyo
BEGIN:STANDARD
TZOFFSETFROM:+0900
TZOFFSETTO:+0900
TZNAME:JST
DTSTART:20250101T000000
END:STANDARD
END:VTIMEZONE
BEGIN:VEVENT
DTSTART;TZID=America/Los_Angeles:20260127T100000
DTEND;TZID=America/Los_Angeles:20260127T113000
DTSTAMP:20260425T145314
CREATED:20260108T000708Z
LAST-MODIFIED:20260108T000957Z
UID:24141-1769508000-1769513400@theworldcafe.com
SUMMARY:January Community Cafe – Americas & European Time Zones
DESCRIPTION:TUESDAY\, JANUARY 27TH\n10 am – 12:30 pm PDT | 1 pm – 3:30 pm EDT | 7 pm – 9:30 pm CEST\nJoin us for this month’s Community World Cafe in an Americas and European time zone. Our topic for this month is “Gifts of the World Cafe: Imagining Community Together”\, which is the first Community Cafe of the year. \nREGISTER HERE\nfree to Community Table subscribers – see code in your calendar) \nThis online Community Cafe is part of an ongoing series we host regularly for the World Cafe community and the larger Central Garden of participatory practices. \nThese Community Cafes give us as a global community a time to “lean in”; a time to listen to others and to speak our truth; a time to remember we are all in this together.
URL:https://theworldcafe.com/event/january-community-cafe-americas-european-time-zones-2/
LOCATION:ONLINE
CATEGORIES:Community World Cafes
ATTACH;FMTTYPE=image/png:https://theworldcafe.com/wp-content/uploads/2026/01/AM-Europe-CC.png
END:VEVENT
BEGIN:VEVENT
DTSTART;TZID=Asia/Tokyo:20260128T200000
DTEND;TZID=Asia/Tokyo:20260128T223000
DTSTAMP:20260425T145314
CREATED:20260108T002019Z
LAST-MODIFIED:20260108T002234Z
UID:24145-1769630400-1769639400@theworldcafe.com
SUMMARY:January Community Cafe – Asia Pacific Time Zones
DESCRIPTION:Wednesday\, January 28\, 2026\n6 – 8:30 pm Jakarta | 7 – 9:30 pm in Beijing | 8pm – 10:30 pm in Tokyo\nJoin us for this month’s Community World Cafe in an Asia Pacific time zone. Our topic for this month is “Gifts from the World Cafe: Imagining Community Together“. \nREGISTER HERE\n(free to Community Table subscribers – see code in your calendar) \nThis online Community Cafe is part of an ongoing series we host every month for the World Cafe community and for the larger Central Garden of participatory practices. \nThese Community Cafes give us as a global community a time to “lean in”; a time to listen to others and to speak our truth; a time to remember we are all in this together.
URL:https://theworldcafe.com/event/january-community-cafe-asia-pacific-time-zones-2/
LOCATION:ONLINE
CATEGORIES:Asia Pacific Community World Cafe,Community World Cafes
ATTACH;FMTTYPE=image/png:https://theworldcafe.com/wp-content/uploads/2026/01/Jan.2025-Future-of-Community.png
END:VEVENT
END:VCALENDAR