BEGIN:VCALENDAR
VERSION:2.0
PRODID:-//The World Cafe - ECPv6.15.20//NONSGML v1.0//EN
CALSCALE:GREGORIAN
METHOD:PUBLISH
X-WR-CALNAME:The World Cafe
X-ORIGINAL-URL:https://theworldcafe.com
X-WR-CALDESC:Events for The World Cafe
REFRESH-INTERVAL;VALUE=DURATION:PT1H
X-Robots-Tag:noindex
X-PUBLISHED-TTL:PT1H
BEGIN:VTIMEZONE
TZID:America/Los_Angeles
BEGIN:DAYLIGHT
TZOFFSETFROM:-0800
TZOFFSETTO:-0700
TZNAME:PDT
DTSTART:20250309T100000
END:DAYLIGHT
BEGIN:STANDARD
TZOFFSETFROM:-0700
TZOFFSETTO:-0800
TZNAME:PST
DTSTART:20251102T090000
END:STANDARD
BEGIN:DAYLIGHT
TZOFFSETFROM:-0800
TZOFFSETTO:-0700
TZNAME:PDT
DTSTART:20260308T100000
END:DAYLIGHT
BEGIN:STANDARD
TZOFFSETFROM:-0700
TZOFFSETTO:-0800
TZNAME:PST
DTSTART:20261101T090000
END:STANDARD
BEGIN:DAYLIGHT
TZOFFSETFROM:-0800
TZOFFSETTO:-0700
TZNAME:PDT
DTSTART:20270314T100000
END:DAYLIGHT
BEGIN:STANDARD
TZOFFSETFROM:-0700
TZOFFSETTO:-0800
TZNAME:PST
DTSTART:20271107T090000
END:STANDARD
END:VTIMEZONE
BEGIN:VEVENT
DTSTART;TZID=America/Los_Angeles:20260224T100000
DTEND;TZID=America/Los_Angeles:20261127T123000
DTSTAMP:20260425T072115
CREATED:20260210T012941Z
LAST-MODIFIED:20260210T012941Z
UID:24179-1771927200-1795782600@theworldcafe.com
SUMMARY:2026 Community World Cafes: Gifts from the World Café
DESCRIPTION:Subscribe to the whole 2026 series for real-time access to every 2026 Community Cafe & key resources you can utilize throughout the year. \nSUBSCRIBE
URL:https://theworldcafe.com/event/2026-community-world-cafes-gifts-from-the-world-cafe/
LOCATION:ONLINE
CATEGORIES:Community World Cafes
ATTACH;FMTTYPE=image/jpeg:https://theworldcafe.com/wp-content/uploads/2026/01/Jan-Newsletter.jpg
END:VEVENT
BEGIN:VEVENT
DTSTART;TZID=America/Los_Angeles:20260427T100000
DTEND;TZID=America/Los_Angeles:20260427T123000
DTSTAMP:20260425T072115
CREATED:20260210T011615Z
LAST-MODIFIED:20260210T012900Z
UID:24173-1777284000-1777293000@theworldcafe.com
SUMMARY:April Community Cafe - Americas & Europe Time Zones
DESCRIPTION:In 2026 we are experimenting with a quarterly Community Cafe for the Americas and European time zones\, rather than a monthly one. Here’re the details: \nTUESDAY\, APRIL 27TH\n10 am – 12:30 pm PDT | 1 pm – 3:30 pm EDT | 7 pm – 9:30 pm CEST\nJoin us for the April Community World Cafe in an Americas and European time zone. Our topic for this Cafe is “Gifts of the World Cafe: What Allows Real Connection to Grow”. \nREGISTER HERE\nfree to Community Table subscribers – see the discount code in the Community Table calendar) \nThis online Community Cafe is part of an ongoing series we host regularly for the World Cafe community and the larger Central Garden of participatory practices. These Community Cafes give us as a global community a time to “lean in”; a time to listen to others and to speak our truth; a time to remember we are all in this together.
URL:https://theworldcafe.com/event/april-community-cafe/
LOCATION:ONLINE
CATEGORIES:Community World Cafes
ATTACH;FMTTYPE=image/jpeg:https://theworldcafe.com/wp-content/uploads/2026/02/337E8F65-7A0B-4A12-B7DE-CF011933CAA5.jpg
END:VEVENT
END:VCALENDAR