BEGIN:VCALENDAR
VERSION:2.0
PRODID:-//The World Cafe - ECPv6.15.20//NONSGML v1.0//EN
CALSCALE:GREGORIAN
METHOD:PUBLISH
X-ORIGINAL-URL:https://theworldcafe.com
X-WR-CALDESC:Events for The World Cafe
REFRESH-INTERVAL;VALUE=DURATION:PT1H
X-Robots-Tag:noindex
X-PUBLISHED-TTL:PT1H
BEGIN:VTIMEZONE
TZID:America/Los_Angeles
BEGIN:DAYLIGHT
TZOFFSETFROM:-0800
TZOFFSETTO:-0700
TZNAME:PDT
DTSTART:20200308T100000
END:DAYLIGHT
BEGIN:STANDARD
TZOFFSETFROM:-0700
TZOFFSETTO:-0800
TZNAME:PST
DTSTART:20201101T090000
END:STANDARD
BEGIN:DAYLIGHT
TZOFFSETFROM:-0800
TZOFFSETTO:-0700
TZNAME:PDT
DTSTART:20210314T100000
END:DAYLIGHT
BEGIN:STANDARD
TZOFFSETFROM:-0700
TZOFFSETTO:-0800
TZNAME:PST
DTSTART:20211107T090000
END:STANDARD
BEGIN:DAYLIGHT
TZOFFSETFROM:-0800
TZOFFSETTO:-0700
TZNAME:PDT
DTSTART:20220313T100000
END:DAYLIGHT
BEGIN:STANDARD
TZOFFSETFROM:-0700
TZOFFSETTO:-0800
TZNAME:PST
DTSTART:20221106T090000
END:STANDARD
END:VTIMEZONE
BEGIN:VEVENT
DTSTART;TZID=America/Los_Angeles:20211004T100000
DTEND;TZID=America/Los_Angeles:20211004T113000
DTSTAMP:20260425T161727
CREATED:20210730T234941Z
LAST-MODIFIED:20210802T171005Z
UID:3951-1633341600-1633347000@theworldcafe.com
SUMMARY:October Digital Sandbox
DESCRIPTION:The World Café Community Foundation offers a monthly Digital Sandbox: a safe space to play with the technical options of platforms like Zoom with peers\, especially the options that cannot easily be tested alone.  \nOur topic for each session will be announced ahead of time; the topics are decided in response to YOUR requests. Let us know what you want to play with! \nMonday\, October 4th\n10 am – 11.30 am San Francisco | 1 – 2.30 pm New York |\n2 – 3.30 pm Rio de Janeiro | 7 – 8.30 pm Brussels \nONLINE \nBy Donation – $10 – $20\nFree to Community Table Subscribers  (see the discount code on the Community Table calendar) \nMore Information & Registration
URL:https://theworldcafe.com/event/october-digital-sandbox/
LOCATION:ONLINE
CATEGORIES:Digital Sandbox
ATTACH;FMTTYPE=image/png:https://theworldcafe.com/wp-content/uploads/2020/08/Sandbox-3.png
END:VEVENT
BEGIN:VEVENT
DTSTART;TZID=America/Los_Angeles:20210830T100000
DTEND;TZID=America/Los_Angeles:20210830T113000
DTSTAMP:20260425T161727
CREATED:20210730T234542Z
LAST-MODIFIED:20210802T170508Z
UID:3947-1630317600-1630323000@theworldcafe.com
SUMMARY:August Digital Sandbox
DESCRIPTION:The World Café Community Foundation offers a monthly Digital Sandbox: a safe space to play with the technical options of platforms like Zoom with peers\, especially the options that cannot easily be tested alone. \nOur topic for each session will be announced ahead of time; the topics are decided in response to YOUR requests. Let us know what you want to play with! \nMonday\, August 30\n10 am – 11.30 am San Francisco | 1 – 2.30 pm New York |\n2 – 3.30 pm Rio de Janeiro | 7 – 8.30 pm Brussels \nONLINE \nBy Donation – $10 – $20\nFree to Community Table Subscribers  (see the discount code on the Community Table calendar) \nMore Information & Registration
URL:https://theworldcafe.com/event/august-digital-sandbox/
LOCATION:ONLINE
CATEGORIES:Digital Sandbox
ATTACH;FMTTYPE=image/png:https://theworldcafe.com/wp-content/uploads/2020/08/Sandbox-3.png
END:VEVENT
BEGIN:VEVENT
DTSTART;TZID=America/Los_Angeles:20210730T100000
DTEND;TZID=America/Los_Angeles:20210730T113000
DTSTAMP:20260425T161727
CREATED:20210520T195633Z
LAST-MODIFIED:20210628T173516Z
UID:3900-1627639200-1627644600@theworldcafe.com
SUMMARY:July Digital Sandbox
DESCRIPTION:The World Café Community Foundation offers a monthly Digital Sandbox: a safe space to play with the technical options of platforms like Zoom with peers\, especially the options that cannot easily be tested alone. \nOur topic for this session will be announced. \nThe topics for these sessions are decided in response to YOUR requests. Let us know what you want to play with! \nTuesday\, July 30\n10 am – 11.30 am San Francisco | 1 – 2.30 pm New York |\n2 – 3.30 pm Rio de Janeiro | 7 – 8.30 pm Brussels\nONLINE \nBy Donation – $10 – $20\nFree to Community Table Subscribers  (see discount code on CT calendar listing) \nMore Information & Registration
URL:https://theworldcafe.com/event/july-digital-sandbox/
LOCATION:ONLINE
CATEGORIES:Digital Sandbox
ATTACH;FMTTYPE=image/png:https://theworldcafe.com/wp-content/uploads/2021/01/Digital-Sandbox-Square-v3.png
END:VEVENT
BEGIN:VEVENT
DTSTART;TZID=America/Los_Angeles:20210628T100000
DTEND;TZID=America/Los_Angeles:20210628T113000
DTSTAMP:20260425T161727
CREATED:20210520T195213Z
LAST-MODIFIED:20210520T195255Z
UID:3897-1624874400-1624879800@theworldcafe.com
SUMMARY:June Digital Sandbox
DESCRIPTION:The World Café Community Foundation offers a monthly Digital Sandbox: a safe space to play with the technical options of platforms like Zoom with peers\, especially the options that cannot easily be tested alone. \nOur topic for this session will be announced. \nThe topics for these sessions are decided in response to YOUR requests. Let us know what you want to play with! \nMonday\, June 28\n10 am – 11.30 am San Francisco | 1 – 2.30 pm New York |\n2 – 3.30 pm Rio de Janeiro | 7 – 8.30 pm Brussels\nONLINE \nBy Donation – $10 – $20\nFree to Community Table Subscribers  (see discount code on CT calendar listing) \nMore Information & Registration
URL:https://theworldcafe.com/event/digital-sandbox-2/
LOCATION:ONLINE
CATEGORIES:Digital Sandbox
ATTACH;FMTTYPE=image/png:https://theworldcafe.com/wp-content/uploads/2021/01/Digital-Sandbox-Square-v3.png
END:VEVENT
END:VCALENDAR