BEGIN:VCALENDAR
VERSION:2.0
PRODID:-//The World Cafe - ECPv6.15.20//NONSGML v1.0//EN
CALSCALE:GREGORIAN
METHOD:PUBLISH
X-WR-CALNAME:The World Cafe
X-ORIGINAL-URL:https://theworldcafe.com
X-WR-CALDESC:Events for The World Cafe
REFRESH-INTERVAL;VALUE=DURATION:PT1H
X-Robots-Tag:noindex
X-PUBLISHED-TTL:PT1H
BEGIN:VTIMEZONE
TZID:Asia/Tokyo
BEGIN:STANDARD
TZOFFSETFROM:+0900
TZOFFSETTO:+0900
TZNAME:JST
DTSTART:20250101T000000
END:STANDARD
END:VTIMEZONE
BEGIN:VEVENT
DTSTART;TZID=Asia/Tokyo:20260325T200000
DTEND;TZID=Asia/Tokyo:20260325T220000
DTSTAMP:20260425T132506
CREATED:20260228T235734Z
LAST-MODIFIED:20260301T002951Z
UID:24200-1774468800-1774476000@theworldcafe.com
SUMMARY:March Community Cafe - Asia Pacific Time Zones
DESCRIPTION:🌿 What Allows Real Connection to Grow?\nWednesday\, March 2\, 2026\n6 – 8:30 pm Jakarta | 7 – 9:30 pm in Beijing | 8pm – 10:30 pm in Tokyo\n“When I let go of what I am\, I become what I might be.”\n~ Lao Tzu \nIn a world that moves quickly and fragments easily\, real connection rarely happens by accident. \nLao Tzu reminds us that growth begins in letting go — of fixed identities\, fixed opinions\, fixed expectations. Perhaps connection\, too\, requires a kind of spaciousness. A willingness to release certainty. A readiness to meet one another freshly. \nReal connection goes beyond surface interaction. It forms when presence deepens\, when listening softens us\, when trust quietly takes root. It grows where there is courage to be authentic and generosity to truly receive one another. \nIn this March Asian Pacific Online World Café\, sponsored by the World Café Community Foundation\, we gather across cultures and time zones to create the conditions where such connection can emerge. \nThrough shared reflection and meaningful dialogue\, we explore how connection is discovered\, cultivated\, and sustained — and how\, as connection grows\, so do we. \nLet us gather.\nLet us listen.\nLet us grow — together. \nREGISTER HERE\n(free to Community Table subscribers – see the discount code in the Community Table calendar) \nThis online Community Cafe is part of an ongoing series we host every month for the World Cafe community and for the larger Central Garden of participatory practices. These Community Cafes give us as a global community a time to “lean in”; a time to listen to others and to speak our truth; a time to remember we are all in this together.
URL:https://theworldcafe.com/event/march-community-cafe-asia-pacific-time-zones/
LOCATION:ONLINE
CATEGORIES:Asia Pacific Community World Cafe
ATTACH;FMTTYPE=image/jpeg:https://theworldcafe.com/wp-content/uploads/2026/02/WhatsApp-Image-2026-02-26-at-17.10.22.jpeg
END:VEVENT
END:VCALENDAR